BEGIN:VCALENDAR
VERSION:2.0
PRODID:icalendar-ruby
CALSCALE:GREGORIAN
METHOD:PUBLISH
BEGIN:VEVENT
DTSTAMP:20260419T123357Z
UID:78a198c6-d91f-49ea-b94e-6bfca18a3c9d
DTSTART:20230405T170000
DTEND:20230405T210000
DESCRIPTION:<p><strong style="background-color: transparent\;">Australian d
 uo and twins\, Pierce Brothers\, return to SA in April and Joburg fans wil
 l be excited to hear that they’ll be performing live at the Copper Bar i
 n Bryanston on Wednesday\, 5 April 2023. Tickets are on sale now.</strong>
 </p><p><br></p><p>Pierce Brothers won over South African hearts when they 
 first toured SA back in 2018\, performing at Splashy Fen Festival in KZN (
 which they return to in 2023) and Lush Festival in Clarens. Five years lat
 er and they are incredibly excited to be coming back.</p><p><br></p><p>For
  years twin brothers Jack and Patrick Pierce’s high-energy duo Pierce Br
 others have been a staple of the Australian indie-folk/ blues & roots scen
 e. Exploding onto the world stage in 2014\, the brothers started their jou
 rney as buskers on Bourke street (alongside other incredible busking acts 
 Tash Sultana and Tones and I) and soon became a must-see act. Having estab
 lished themselves as an integral part of the music scene in Australia and 
 abroad\, the brothers have toured relentlessly.</p><p><br></p><p>The band
 ’s music has grown with them and has seen them release a top 15 ARIA deb
 ut album and two Top 10 ARIA EPs as well as amassing over 30 million globa
 l streams. The pair lived out their dream of headlining a maxed-out Forum 
 Theatre in their hometown of Melbourne\, before taking on a massive world 
 tour\, headlining venues all over the globe\, playing arenas supporting Ta
 sh Sultana\, as well as massive AAA festivals in North America\, Europe\, 
 and Australia.</p><p><br></p><p>During the 2020 lockdown\, the boys retrea
 ted into the studio for 6 weeks and recorded the album\, <em style="backg
 round-color: transparent\;">‘Into The Great Unknown’</em>. The album e
 xplores previously uncharted territory for the twins.</p><p><br></p><p>Pie
 rce Brothers kicked off 2022 with a brand new single ‘<em style="backgro
 und-color: transparent\;">When It All Goes Away’</em>\, co-written with 
 Garrett Kato\, followed by an affecting indie-pop ballad <em style="backg
 round-color: transparent\;">‘How Sweet Is This Love’ </em>featuring S
 teph Strings\, the follow up uplifting release of <em style="background-c
 olor: transparent\;">“The Captive”</em> produced by Jan Skubiszewski.
 </p><p><br></p><p><strong style="background-color: transparent\;">2023 is 
 placed to be even bigger with the release of the epic single ‘<em>High &
  Unsteady’</em> co-written\, recorded\, and produced by platinum award-
 winning\, producer\, engineer\, singer-songwriter\, and multi-instrumental
 ist Tash Sultana.</strong></p><p><br></p><iframe class="ql-video" framebor
 der="0" allowfullscreen="true" src="https://www.youtube.com/embed/5NfXsNEu
 mKY?feature=oembed" height="608" width="1080"></iframe><p><br></p><p><stro
 ng style="background-color: transparent\;"><u>Here are the details for the
  COPPER BAR show:</u></strong></p><p>Date: <strong style="background-colo
 r: transparent\;">Wednesday 5 April 2023</strong></p><p>Venue & Address: C
 opper Bar\, Corner Main Office Park\, 2 Payne Road\, Bryanston 2191</p><p>
 Times: Doors open at 5 pm. The show starts at 6 pm.</p><p>Opening act: Ma
 rtin Gill</p><p>Tickets: <a href="https://howler.co.za/piercebrothers" ta
 rget="_blank" style="background-color: transparent\; color: rgb(255\, 153\
 , 0)\;">https://howler.co.za/piercebrothers</a></p><p>Ticket price: R295 f
 ee (excl ticket service fee)</p><p>Facebook event <a href="https://www.fa
 cebook.com/events/1195638754653747/" target="_blank" style="background-col
 or: transparent\; color: rgb(255\, 153\, 0)\;">https://www.facebook.com/ev
 ents/1195638754653747/</a></p><p><br></p><p><strong style="background-colo
 r: transparent\;"><u>Follow the Pierce Brothers online:</u></strong></p><p
 >Website: <a href="https://www.piercebrothers.com/" target="_blank" style
 ="background-color: transparent\; color: rgb(255\, 153\, 0)\;">https://www
 .piercebrothers.com/</a></p><p>Instagram: <a href="https://www.instagram.
 com/piercebrothersmusic" target="_blank" style="background-color: transpar
 ent\; color: rgb(255\, 153\, 0)\;">https://www.instagram.com/piercebrother
 smusic</a></p><p>Facebook: <a href="https://www.facebook.com/piercebrothe
 rsmusic" target="_blank" style="background-color: transparent\; color: rgb
 (255\, 153\, 0)\;">https://www.facebook.com/piercebrothersmusic</a></p><p>
 Twitter: <a href="https://www.twitter.com/pierce_brothers" target="_blank
 " style="background-color: transparent\; color: rgb(255\, 153\, 0)\;">http
 s://www.twitter.com/pierce_brothers</a></p><p>YouTube: <a href="https://w
 ww.youtube.com/piercebrothersmusic" target="_blank" style="background-colo
 r: transparent\; color: rgb(255\, 153\, 0)\;">https://www.youtube.com/pier
 cebrothersmusic</a></p><p><br></p><p><strong style="background-color: tran
 sparent\;"><u>Listen to their music:</u></strong></p><p>SPOTIFY: <a href=
 "https://open.spotify.com/artist/7vZrzoDeKFqcZ9JrDThOBB" target="_blank" s
 tyle="background-color: transparent\; color: rgb(255\, 153\, 0)\;">https:/
 /open.spotify.com/artist/7vZrzoDeKFqcZ9JrDThOBB</a></p><p>APPLE: <a href=
 "https://music.apple.com/za/artist/pierce-brothers/416397386" target="_bla
 nk" style="background-color: transparent\; color: rgb(255\, 153\, 0)\;">ht
 tps://music.apple.com/za/artist/pierce-brothers/416397386</a></p><p><br></
 p>
LOCATION:Corner Main Office Park\, 2 Payne Road\, Bryanston\, Sandton\, Joh
 annesburg\, Gauteng\, 2191
SUMMARY:Pierce Brothers live at Copper Bar
URL;VALUE=URI:https://breakout.howler.co.za/piercebrothers
END:VEVENT
END:VCALENDAR
